BEGIN:VCALENDAR
VERSION:2.0
PRODID:-//Plateforme Prévention Soins Orthophonie (PPSO) - ECPv5.16.4//NONSGML v1.0//EN
CALSCALE:GREGORIAN
METHOD:PUBLISH
X-ORIGINAL-URL:https://www.ppso-asso.org
X-WR-CALDESC:Events for Plateforme Prévention Soins Orthophonie (PPSO)
REFRESH-INTERVAL;VALUE=DURATION:PT1H
X-Robots-Tag:noindex
X-PUBLISHED-TTL:PT1H
BEGIN:VTIMEZONE
TZID:Europe/Paris
BEGIN:DAYLIGHT
TZOFFSETFROM:+0100
TZOFFSETTO:+0200
TZNAME:CEST
DTSTART:20240331T010000
END:DAYLIGHT
BEGIN:STANDARD
TZOFFSETFROM:+0200
TZOFFSETTO:+0100
TZNAME:CET
DTSTART:20241027T010000
END:STANDARD
END:VTIMEZONE
BEGIN:VEVENT
DTSTART;TZID=Europe/Paris:20240917T170000
DTEND;TZID=Europe/Paris:20240917T190000
DTSTAMP:20260425T223614
CREATED:20250122T141448Z
LAST-MODIFIED:20250122T141448Z
UID:7291-1726592400-1726599600@www.ppso-asso.org
SUMMARY:Réunion du Conseil d'Administration
DESCRIPTION:
URL:https://www.ppso-asso.org/event/reunion-du-conseil-dadministration-5/
LOCATION:EN VISIO
CATEGORIES:Agenda
END:VEVENT
END:VCALENDAR