BEGIN:VCALENDAR
VERSION:2.0
PRODID:-//Plateforme Prévention Soins Orthophonie (PPSO) - ECPv5.16.4//NONSGML v1.0//EN
CALSCALE:GREGORIAN
METHOD:PUBLISH
X-WR-CALNAME:Plateforme Prévention Soins Orthophonie (PPSO)
X-ORIGINAL-URL:https://www.ppso-asso.org
X-WR-CALDESC:Events for Plateforme Prévention Soins Orthophonie (PPSO)
REFRESH-INTERVAL;VALUE=DURATION:PT1H
X-Robots-Tag:noindex
X-PUBLISHED-TTL:PT1H
BEGIN:VTIMEZONE
TZID:Europe/Paris
BEGIN:DAYLIGHT
TZOFFSETFROM:+0100
TZOFFSETTO:+0200
TZNAME:CEST
DTSTART:20240331T010000
END:DAYLIGHT
BEGIN:STANDARD
TZOFFSETFROM:+0200
TZOFFSETTO:+0100
TZNAME:CET
DTSTART:20241027T010000
END:STANDARD
END:VTIMEZONE
BEGIN:VEVENT
DTSTART;TZID=Europe/Paris:20240626T140000
DTEND;TZID=Europe/Paris:20240626T163000
DTSTAMP:20260426T051559
CREATED:20240719T142440Z
LAST-MODIFIED:20240719T142629Z
UID:6666-1719410400-1719419400@www.ppso-asso.org
SUMMARY:Assemblée générale de la PPSO
DESCRIPTION:A eu lieu en visio et en présentiel – 28 participants
URL:https://www.ppso-asso.org/event/assemblee-generale-de-la-ppso-2/
CATEGORIES:Agenda
END:VEVENT
END:VCALENDAR